BEGIN:VCALENDAR
VERSION:2.0
PRODID:-//Zwembad het Streekbad - ECPv5.16.4.1//NONSGML v1.0//EN
CALSCALE:GREGORIAN
METHOD:PUBLISH
X-WR-CALNAME:Zwembad het Streekbad
X-ORIGINAL-URL:https://www.hetstreekbad.nl
X-WR-CALDESC:Evenementen voor Zwembad het Streekbad
BEGIN:VTIMEZONE
TZID:Europe/Amsterdam
BEGIN:DAYLIGHT
TZOFFSETFROM:+0100
TZOFFSETTO:+0200
TZNAME:CEST
DTSTART:20260329T010000
END:DAYLIGHT
BEGIN:STANDARD
TZOFFSETFROM:+0200
TZOFFSETTO:+0100
TZNAME:CET
DTSTART:20261025T010000
END:STANDARD
END:VTIMEZONE
BEGIN:VEVENT
DTSTART;VALUE=DATE:20260907
DTEND;VALUE=DATE:20260913
DTSTAMP:20260423T164425
CREATED:20260331T111910Z
LAST-MODIFIED:20260331T111944Z
UID:200-1788746400-1789178399@www.hetstreekbad.nl
SUMMARY:Zwem4daagse
DESCRIPTION:Heerlijk vier dagen baantjes trekken tijdens de Zwem4daagse.
URL:https://www.hetstreekbad.nl/activiteit/zwem4daagse/
LOCATION:Het Streekbad\, Sportlaan 10\, Hoogkarspel\, 1616 CN\, Netherlands
ATTACH;FMTTYPE=:
ORGANIZER;CN="Het%20Streekbad":MAILTO:info@streekbad.nl
END:VEVENT
END:VCALENDAR