BEGIN:VCALENDAR
VERSION:2.0
PRODID:-//Zwembad het Streekbad - ECPv5.16.4.1//NONSGML v1.0//EN
CALSCALE:GREGORIAN
METHOD:PUBLISH
X-WR-CALNAME:Zwembad het Streekbad
X-ORIGINAL-URL:https://www.hetstreekbad.nl
X-WR-CALDESC:Evenementen voor Zwembad het Streekbad
BEGIN:VTIMEZONE
TZID:Europe/Amsterdam
BEGIN:DAYLIGHT
TZOFFSETFROM:+0100
TZOFFSETTO:+0200
TZNAME:CEST
DTSTART:20260329T010000
END:DAYLIGHT
BEGIN:STANDARD
TZOFFSETFROM:+0200
TZOFFSETTO:+0100
TZNAME:CET
DTSTART:20261025T010000
END:STANDARD
END:VTIMEZONE
BEGIN:VEVENT
DTSTART;VALUE=DATE:20260706
DTEND;VALUE=DATE:20260818
DTSTAMP:20260423T163516
CREATED:20260331T111501Z
LAST-MODIFIED:20260421T100738Z
UID:192-1783303200-1786931999@www.hetstreekbad.nl
SUMMARY:Zomervakantie zwemlessen
DESCRIPTION:Vanaf maandag 6 juli tot 16 augustus worden de zwemlessen gegeven van 9.00 tot 12.00 uur.
URL:https://www.hetstreekbad.nl/activiteit/zomervakantie-zwemlessen/
LOCATION:Het Streekbad\, Sportlaan 10\, Hoogkarspel\, 1616 CN\, Netherlands
ATTACH;FMTTYPE=:
ORGANIZER;CN="Het%20Streekbad":MAILTO:info@streekbad.nl
END:VEVENT
END:VCALENDAR