BEGIN:VCALENDAR
VERSION:2.0
PRODID:-//Zwembad het Streekbad - ECPv5.16.4.1//NONSGML v1.0//EN
CALSCALE:GREGORIAN
METHOD:PUBLISH
X-WR-CALNAME:Zwembad het Streekbad
X-ORIGINAL-URL:https://www.hetstreekbad.nl
X-WR-CALDESC:Evenementen voor Zwembad het Streekbad
BEGIN:VTIMEZONE
TZID:Europe/Amsterdam
BEGIN:DAYLIGHT
TZOFFSETFROM:+0100
TZOFFSETTO:+0200
TZNAME:CEST
DTSTART:20260329T010000
END:DAYLIGHT
BEGIN:STANDARD
TZOFFSETFROM:+0200
TZOFFSETTO:+0100
TZNAME:CET
DTSTART:20261025T010000
END:STANDARD
END:VTIMEZONE
BEGIN:VEVENT
DTSTART;TZID=Europe/Amsterdam:20260913T180000
DTEND;TZID=Europe/Amsterdam:20260913T190000
DTSTAMP:20260423T163927
CREATED:20260331T112158Z
LAST-MODIFIED:20260331T112158Z
UID:204-1789322400-1789326000@www.hetstreekbad.nl
SUMMARY:Hondenplons
DESCRIPTION:Het buitenzwemseizoen wordt afgesloten door onze hondjes.
URL:https://www.hetstreekbad.nl/activiteit/hondenplons/
LOCATION:Het Streekbad\, Sportlaan 10\, Hoogkarspel\, 1616 CN\, Netherlands
ATTACH;FMTTYPE=:
ORGANIZER;CN="Het%20Streekbad":MAILTO:info@streekbad.nl
END:VEVENT
END:VCALENDAR