BEGIN:VCALENDAR
VERSION:2.0
PRODID:-//Zwembad het Streekbad - ECPv5.16.4.1//NONSGML v1.0//EN
CALSCALE:GREGORIAN
METHOD:PUBLISH
X-WR-CALNAME:Zwembad het Streekbad
X-ORIGINAL-URL:https://www.hetstreekbad.nl
X-WR-CALDESC:Evenementen voor Zwembad het Streekbad
BEGIN:VTIMEZONE
TZID:Europe/Amsterdam
BEGIN:DAYLIGHT
TZOFFSETFROM:+0100
TZOFFSETTO:+0200
TZNAME:CEST
DTSTART:20260329T010000
END:DAYLIGHT
BEGIN:STANDARD
TZOFFSETFROM:+0200
TZOFFSETTO:+0100
TZNAME:CET
DTSTART:20261025T010000
END:STANDARD
END:VTIMEZONE
BEGIN:VEVENT
DTSTART;VALUE=DATE:20260626
DTEND;VALUE=DATE:20260628
DTSTAMP:20260423T150729
CREATED:20260331T111114Z
LAST-MODIFIED:20260421T100650Z
UID:188-1782439200-1782525599@www.hetstreekbad.nl
SUMMARY:Eerste afzwemmoment
DESCRIPTION:Op 26 juni kunnen de kinderen hun diploma halen van het Zwem-ABC.
URL:https://www.hetstreekbad.nl/activiteit/eerste-afzwemmoment/
LOCATION:Het Streekbad\, Sportlaan 10\, Hoogkarspel\, 1616 CN\, Netherlands
ATTACH;FMTTYPE=:
ORGANIZER;CN="Het%20Streekbad":MAILTO:info@streekbad.nl
END:VEVENT
END:VCALENDAR